BEGIN:VCALENDAR
VERSION:2.0
PRODID:-//Northern Lights College - ECPv6.15.20//NONSGML v1.0//EN
CALSCALE:GREGORIAN
METHOD:PUBLISH
X-WR-CALNAME:Northern Lights College
X-ORIGINAL-URL:https://www.nlc.bc.ca
X-WR-CALDESC:Events for Northern Lights College
REFRESH-INTERVAL;VALUE=DURATION:PT1H
X-Robots-Tag:noindex
X-PUBLISHED-TTL:PT1H
BEGIN:VTIMEZONE
TZID:America/Phoenix
BEGIN:STANDARD
TZOFFSETFROM:-0700
TZOFFSETTO:-0700
TZNAME:MST
DTSTART:20240101T000000
END:STANDARD
END:VTIMEZONE
BEGIN:VEVENT
DTSTART;TZID=America/Phoenix:20251127T163000
DTEND;TZID=America/Phoenix:20251127T173000
DTSTAMP:20260423T025107
CREATED:20251014T165800Z
LAST-MODIFIED:20251014T203115Z
UID:10003473-1764261000-1764264600@www.nlc.bc.ca
SUMMARY:Northern Lights College Student Association (NLCSA) Annual General Meeting
DESCRIPTION:Join your fellow students at the Annual General Meeting of the Student’s Association (all campuses).\nWhen you register for classes at NLC and pay your student fees\, you become an active member of the Northern Lights College Student Association (NLCSA). As a member you are invited to attend the AGM. This year the AGM will be held via TEAMS starting at 4:30pm on Thursday\, November 27\, 2025 \nIf you would like to attend\, please email NLCSA@nlc.bc.ca with the title: Request to attend NLCSA AGM\, and you will be sent the meeting link.
URL:https://www.nlc.bc.ca/event/northern-lights-college-student-association-nlcsa-annual-general-meeting/
LOCATION:Online\, Canada
CATEGORIES:College Events,Student Association
ATTACH;FMTTYPE=image/png:https://www.nlc.bc.ca/wp-content/uploads/2025/10/NLCSA-event-graphic.png
END:VEVENT
END:VCALENDAR