BEGIN:VCALENDAR
VERSION:2.0
PRODID:-//Northern Lights College - ECPv6.15.20//NONSGML v1.0//EN
CALSCALE:GREGORIAN
METHOD:PUBLISH
X-WR-CALNAME:Northern Lights College
X-ORIGINAL-URL:https://www.nlc.bc.ca
X-WR-CALDESC:Events for Northern Lights College
REFRESH-INTERVAL;VALUE=DURATION:PT1H
X-Robots-Tag:noindex
X-PUBLISHED-TTL:PT1H
BEGIN:VTIMEZONE
TZID:America/Phoenix
BEGIN:STANDARD
TZOFFSETFROM:-0700
TZOFFSETTO:-0700
TZNAME:MST
DTSTART:20240101T000000
END:STANDARD
END:VTIMEZONE
BEGIN:VEVENT
DTSTART;TZID=America/Phoenix:20250902T133000
DTEND;TZID=America/Phoenix:20250902T143000
DTSTAMP:20260423T024206
CREATED:20250826T220129Z
LAST-MODIFIED:20250826T220928Z
UID:10002939-1756819800-1756823400@www.nlc.bc.ca
SUMMARY:Introduction to D2L & Teams - DC & FSJ
DESCRIPTION:D2L is NLC’s online learning platform. \nLearn how to access your course materials\, assignments discussions and monitor your grades. \nWednesday Sep 2\, Dawson Creek CCET\, and FSJ room 1509 \nTuesday Sep 16\, Dawson Creek CCET and FSJ room 1509
URL:https://www.nlc.bc.ca/event/introduction-to-d2l-teams-dc-fsj/2025-09-02/
LOCATION:Dawson Creek CCET\, 11401 8th street\, Dawson Creek\, BC\, V1G 4G2\, Canada
CATEGORIES:College Events
ATTACH;FMTTYPE=image/jpeg:https://www.nlc.bc.ca/wp-content/uploads/2025/08/Intro-to-D2L_Email.jpg
ORGANIZER;CN="Learning Support Services":MAILTO:learningsupport@nlc.bc.ca
END:VEVENT
BEGIN:VEVENT
DTSTART;TZID=America/Phoenix:20250904T114500
DTEND;TZID=America/Phoenix:20250904T131000
DTSTAMP:20260423T024206
CREATED:20250826T213431Z
LAST-MODIFIED:20250826T213431Z
UID:10002933-1756986300-1756991400@www.nlc.bc.ca
SUMMARY:Anti Plagiarism in Action - FSJ
DESCRIPTION:Uncover the secrets of maintaining academic integrity. \nLearn effective strategies to prevent plagiarism in your academic work. \nThursday September 4\, Fort St. John – Atrium \nTuesday September 9\, Dawson Creek  – CCET \nThursday September 11\, Dawson Creek  – CCET\, AND Fort St John  Atrium
URL:https://www.nlc.bc.ca/event/anti-plagiarism-in-action-fsj/
LOCATION:Fort St John Atrium\, 9820 120th Ave\, Fort St. John\, BC\, V1J 8C3\, Canada
CATEGORIES:College Events
ATTACH;FMTTYPE=image/jpeg:https://www.nlc.bc.ca/wp-content/uploads/2025/08/Anti-Plagiarism_Email.jpg
ORGANIZER;CN="Learning Support Services":MAILTO:learningsupport@nlc.bc.ca
END:VEVENT
BEGIN:VEVENT
DTSTART;TZID=America/Phoenix:20250904T114500
DTEND;TZID=America/Phoenix:20250904T131000
DTSTAMP:20260423T024206
CREATED:20250826T214905Z
LAST-MODIFIED:20250826T215511Z
UID:10002936-1756986300-1756991400@www.nlc.bc.ca
SUMMARY:Introduction to APA citation style - DC
DESCRIPTION:New to APA style or need a refresher? \nThis workshop will cover the basics of APA 7th edition\, including formatting\, in-text citations\, and reference lists. \nWhether you’re writing your first paper or polishing up your skills\, you’ll leave with practical tools to make citing and formatting easier. \nThursday Sept 4\, Dawson Creek CCET \nTuesday September 9\, Fort St John Atrium \nMonday\, September 15\, Online via Teams 
URL:https://www.nlc.bc.ca/event/introduction-to-apa-citation-style-2/
LOCATION:Dawson Creek CCET\, 11401 8th street\, Dawson Creek\, BC\, V1G 4G2\, Canada
CATEGORIES:College Events
ATTACH;FMTTYPE=image/jpeg:https://www.nlc.bc.ca/wp-content/uploads/2025/08/Intro-to-APA_Email.jpg
ORGANIZER;CN="Learning Support Services":MAILTO:learningsupport@nlc.bc.ca
END:VEVENT
BEGIN:VEVENT
DTSTART;TZID=America/Phoenix:20250908T131500
DTEND;TZID=America/Phoenix:20250908T144000
DTSTAMP:20260423T024206
CREATED:20250826T221409Z
LAST-MODIFIED:20250826T221409Z
UID:10002941-1757337300-1757342400@www.nlc.bc.ca
SUMMARY:Navigating Online Courses - Online
DESCRIPTION:Online learning can feel overwhelming at first—but it doesn’t have to be. \nThis workshop will walk you through tips and strategies for \n\nstaying organized\,\nparticipating effectively\,\nand making the most of your online courses.\n\nYou’ll leave with practical tools to help you feel confident and connected in a virtual classroom. \nhttps://tinyurl.com/ycyjzc42 \nMeeting ID 282 790 480 896 8 \nPasscode PD2mq2R2
URL:https://www.nlc.bc.ca/event/navigating-online-courses-online/
LOCATION:Online\, Canada
CATEGORIES:College Events
ATTACH;FMTTYPE=image/jpeg:https://www.nlc.bc.ca/wp-content/uploads/2025/08/Navigating-Online_Email.jpg
ORGANIZER;CN="Learning Support Services":MAILTO:learningsupport@nlc.bc.ca
END:VEVENT
BEGIN:VEVENT
DTSTART;TZID=America/Phoenix:20250909T114500
DTEND;TZID=America/Phoenix:20250909T131000
DTSTAMP:20260423T024206
CREATED:20250826T213549Z
LAST-MODIFIED:20250826T213655Z
UID:10002934-1757418300-1757423400@www.nlc.bc.ca
SUMMARY:Anti-Plagiarism in Action DC
DESCRIPTION:Uncover the secrets of maintaining academic integrity. \nLearn effective strategies to prevent plagiarism in your academic work. \nThursday September 4\, Fort St. John – Atrium \nTuesday September 9\, Dawson Creek  – CCET \nThursday September 11\, Dawson Creek  – CCET\, AND Fort St John  Atrium
URL:https://www.nlc.bc.ca/event/anti-plagiarism-in-action-dc/
LOCATION:Dawson Creek CCET\, 11401 8th street\, Dawson Creek\, BC\, V1G 4G2\, Canada
CATEGORIES:College Events
ATTACH;FMTTYPE=image/jpeg:https://www.nlc.bc.ca/wp-content/uploads/2025/08/Anti-Plagiarism_Email.jpg
ORGANIZER;CN="Learning Support Services":MAILTO:learningsupport@nlc.bc.ca
END:VEVENT
BEGIN:VEVENT
DTSTART;TZID=America/Phoenix:20250909T114500
DTEND;TZID=America/Phoenix:20250909T131000
DTSTAMP:20260423T024206
CREATED:20250826T215018Z
LAST-MODIFIED:20250826T215431Z
UID:10002937-1757418300-1757423400@www.nlc.bc.ca
SUMMARY:Introduction to APA Citation Style - FSJ
DESCRIPTION:New to APA style or need a refresher? \nThis workshop will cover the basics of APA 7th edition\, including formatting\, in-text citations\, and reference lists. \nWhether you’re writing your first paper or polishing up your skills\, you’ll leave with practical tools to make citing and formatting easier. \nThursday Sept 4\, Dawson Creek CCET \nTuesday September 9\, Fort St John Atrium \nMonday\, September 15\, Online via Teams
URL:https://www.nlc.bc.ca/event/introduction-to-apa-citation-style-3/
LOCATION:Fort St John Atrium\, 9820 120th Ave\, Fort St. John\, BC\, V1J 8C3\, Canada
CATEGORIES:College Events
ATTACH;FMTTYPE=image/jpeg:https://www.nlc.bc.ca/wp-content/uploads/2025/08/Intro-to-APA_Email.jpg
ORGANIZER;CN="Learning Support Services":MAILTO:learningsupport@nlc.bc.ca
END:VEVENT
BEGIN:VEVENT
DTSTART;TZID=America/Phoenix:20250911T114500
DTEND;TZID=America/Phoenix:20250911T131000
DTSTAMP:20260423T024206
CREATED:20250826T214144Z
LAST-MODIFIED:20250826T214144Z
UID:10002935-1757591100-1757596200@www.nlc.bc.ca
SUMMARY:Anti-Plagiarism in Action DC & FSJ
DESCRIPTION:Uncover the secrets of maintaining academic integrity. \nLearn effective strategies to prevent plagiarism in your academic work. \nThursday September 4\, Fort St. John – Atrium \nTuesday September 9\, Dawson Creek  – CCET \nThursday September 11\, Dawson Creek  – CCET\, AND Fort St John  Atrium
URL:https://www.nlc.bc.ca/event/anti-plagiarism-in-action-dc-fsj/
LOCATION:Dawson Creek CCET\, 11401 8th street\, Dawson Creek\, BC\, V1G 4G2\, Canada
CATEGORIES:College Events
ATTACH;FMTTYPE=image/jpeg:https://www.nlc.bc.ca/wp-content/uploads/2025/08/Anti-Plagiarism_Email.jpg
ORGANIZER;CN="Learning Support Services":MAILTO:learningsupport@nlc.bc.ca
END:VEVENT
BEGIN:VEVENT
DTSTART;TZID=America/Phoenix:20250915T131500
DTEND;TZID=America/Phoenix:20250915T144000
DTSTAMP:20260423T024206
CREATED:20250826T215331Z
LAST-MODIFIED:20250826T215331Z
UID:10002938-1757942100-1757947200@www.nlc.bc.ca
SUMMARY:Introduction to APA Citation Style - Online
DESCRIPTION:New to APA style or need a refresher? \nThis workshop will cover the basics of APA 7th edition\, including formatting\, in-text citations\, and reference lists. \nWhether you’re writing your first paper or polishing up your skills\, you’ll leave with practical tools to make citing and formatting easier. \nThursday Sept 4\, Dawson Creek CCET \nTuesday September 9\, Fort St John Atrium \nMonday\, September 15\, Online via Teams https://tinyurl.com/bd4646xa \n\nMeeting ID 260 010 047 430 7\nPasscode uD7RJ9C8
URL:https://www.nlc.bc.ca/event/introduction-to-apa-citation-style-online/
LOCATION:Online\, Canada
CATEGORIES:College Events
ATTACH;FMTTYPE=image/jpeg:https://www.nlc.bc.ca/wp-content/uploads/2025/08/Intro-to-APA_Email.jpg
END:VEVENT
BEGIN:VEVENT
DTSTART;TZID=America/Phoenix:20250916T133000
DTEND;TZID=America/Phoenix:20250916T143000
DTSTAMP:20260423T024206
CREATED:20250826T220129Z
LAST-MODIFIED:20250826T220928Z
UID:10002940-1758029400-1758033000@www.nlc.bc.ca
SUMMARY:Introduction to D2L & Teams - DC & FSJ
DESCRIPTION:D2L is NLC’s online learning platform. \nLearn how to access your course materials\, assignments discussions and monitor your grades. \nWednesday Sep 2\, Dawson Creek CCET\, and FSJ room 1509 \nTuesday Sep 16\, Dawson Creek CCET and FSJ room 1509
URL:https://www.nlc.bc.ca/event/introduction-to-d2l-teams-dc-fsj/2025-09-16/
LOCATION:Dawson Creek CCET\, 11401 8th street\, Dawson Creek\, BC\, V1G 4G2\, Canada
CATEGORIES:College Events
ATTACH;FMTTYPE=image/jpeg:https://www.nlc.bc.ca/wp-content/uploads/2025/08/Intro-to-D2L_Email.jpg
ORGANIZER;CN="Learning Support Services":MAILTO:learningsupport@nlc.bc.ca
END:VEVENT
END:VCALENDAR