BEGIN:VCALENDAR
VERSION:2.0
PRODID:-//Northern Lights College - ECPv6.15.20//NONSGML v1.0//EN
CALSCALE:GREGORIAN
METHOD:PUBLISH
X-ORIGINAL-URL:https://www.nlc.bc.ca
X-WR-CALDESC:Events for Northern Lights College
REFRESH-INTERVAL;VALUE=DURATION:PT1H
X-Robots-Tag:noindex
X-PUBLISHED-TTL:PT1H
BEGIN:VTIMEZONE
TZID:America/Phoenix
BEGIN:STANDARD
TZOFFSETFROM:-0700
TZOFFSETTO:-0700
TZNAME:MST
DTSTART:20240101T000000
END:STANDARD
END:VTIMEZONE
BEGIN:VEVENT
DTSTART;TZID=America/Phoenix:20250904T114500
DTEND;TZID=America/Phoenix:20250904T131000
DTSTAMP:20260423T041756
CREATED:20250826T213431Z
LAST-MODIFIED:20250826T213431Z
UID:10002933-1756986300-1756991400@www.nlc.bc.ca
SUMMARY:Anti Plagiarism in Action - FSJ
DESCRIPTION:Uncover the secrets of maintaining academic integrity. \nLearn effective strategies to prevent plagiarism in your academic work. \nThursday September 4\, Fort St. John – Atrium \nTuesday September 9\, Dawson Creek  – CCET \nThursday September 11\, Dawson Creek  – CCET\, AND Fort St John  Atrium
URL:https://www.nlc.bc.ca/event/anti-plagiarism-in-action-fsj/
LOCATION:Fort St John Atrium\, 9820 120th Ave\, Fort St. John\, BC\, V1J 8C3\, Canada
CATEGORIES:College Events
ATTACH;FMTTYPE=image/jpeg:https://www.nlc.bc.ca/wp-content/uploads/2025/08/Anti-Plagiarism_Email.jpg
ORGANIZER;CN="Learning Support Services":MAILTO:learningsupport@nlc.bc.ca
END:VEVENT
BEGIN:VEVENT
DTSTART;TZID=America/Phoenix:20250904T114500
DTEND;TZID=America/Phoenix:20250904T131000
DTSTAMP:20260423T041756
CREATED:20250826T214905Z
LAST-MODIFIED:20250826T215511Z
UID:10002936-1756986300-1756991400@www.nlc.bc.ca
SUMMARY:Introduction to APA citation style - DC
DESCRIPTION:New to APA style or need a refresher? \nThis workshop will cover the basics of APA 7th edition\, including formatting\, in-text citations\, and reference lists. \nWhether you’re writing your first paper or polishing up your skills\, you’ll leave with practical tools to make citing and formatting easier. \nThursday Sept 4\, Dawson Creek CCET \nTuesday September 9\, Fort St John Atrium \nMonday\, September 15\, Online via Teams 
URL:https://www.nlc.bc.ca/event/introduction-to-apa-citation-style-2/
LOCATION:Dawson Creek CCET\, 11401 8th street\, Dawson Creek\, BC\, V1G 4G2\, Canada
CATEGORIES:College Events
ATTACH;FMTTYPE=image/jpeg:https://www.nlc.bc.ca/wp-content/uploads/2025/08/Intro-to-APA_Email.jpg
ORGANIZER;CN="Learning Support Services":MAILTO:learningsupport@nlc.bc.ca
END:VEVENT
END:VCALENDAR