BEGIN:VCALENDAR
VERSION:2.0
PRODID:-//Northern Lights College - ECPv6.15.20//NONSGML v1.0//EN
CALSCALE:GREGORIAN
METHOD:PUBLISH
X-ORIGINAL-URL:https://www.nlc.bc.ca
X-WR-CALDESC:Events for Northern Lights College
REFRESH-INTERVAL;VALUE=DURATION:PT1H
X-Robots-Tag:noindex
X-PUBLISHED-TTL:PT1H
BEGIN:VTIMEZONE
TZID:America/Phoenix
BEGIN:STANDARD
TZOFFSETFROM:-0700
TZOFFSETTO:-0700
TZNAME:MST
DTSTART:20240101T000000
END:STANDARD
END:VTIMEZONE
BEGIN:VEVENT
DTSTART;TZID=America/Phoenix:20250915T131500
DTEND;TZID=America/Phoenix:20250915T144000
DTSTAMP:20260423T044726
CREATED:20250826T215331Z
LAST-MODIFIED:20250826T215331Z
UID:10002938-1757942100-1757947200@www.nlc.bc.ca
SUMMARY:Introduction to APA Citation Style - Online
DESCRIPTION:New to APA style or need a refresher? \nThis workshop will cover the basics of APA 7th edition\, including formatting\, in-text citations\, and reference lists. \nWhether you’re writing your first paper or polishing up your skills\, you’ll leave with practical tools to make citing and formatting easier. \nThursday Sept 4\, Dawson Creek CCET \nTuesday September 9\, Fort St John Atrium \nMonday\, September 15\, Online via Teams https://tinyurl.com/bd4646xa \n\nMeeting ID 260 010 047 430 7\nPasscode uD7RJ9C8
URL:https://www.nlc.bc.ca/event/introduction-to-apa-citation-style-online/
LOCATION:Online\, Canada
CATEGORIES:College Events
ATTACH;FMTTYPE=image/jpeg:https://www.nlc.bc.ca/wp-content/uploads/2025/08/Intro-to-APA_Email.jpg
END:VEVENT
END:VCALENDAR