BEGIN:VCALENDAR
VERSION:2.0
PRODID:-//Northern Lights College - ECPv6.15.20//NONSGML v1.0//EN
CALSCALE:GREGORIAN
METHOD:PUBLISH
X-ORIGINAL-URL:https://www.nlc.bc.ca
X-WR-CALDESC:Events for Northern Lights College
REFRESH-INTERVAL;VALUE=DURATION:PT1H
X-Robots-Tag:noindex
X-PUBLISHED-TTL:PT1H
BEGIN:VTIMEZONE
TZID:America/Phoenix
BEGIN:STANDARD
TZOFFSETFROM:-0700
TZOFFSETTO:-0700
TZNAME:MST
DTSTART:20240101T000000
END:STANDARD
END:VTIMEZONE
BEGIN:VEVENT
DTSTART;TZID=America/Phoenix:20251007T120000
DTEND;TZID=America/Phoenix:20251007T130000
DTSTAMP:20260423T024409
CREATED:20250826T221916Z
LAST-MODIFIED:20251003T222928Z
UID:10002942-1759838400-1759842000@www.nlc.bc.ca
SUMMARY:Study Skills - DC & FSJ
DESCRIPTION:This workshop will explore effective study strategies\, and time management techniques. \nYou’ll leave with tools to help you stay focused\, motivated\, and confident throughout the semester.
URL:https://www.nlc.bc.ca/event/study-skills-and-resilience-dc-fsj/
LOCATION:Dawson Creek CCET\, 11401 8th street\, Dawson Creek\, BC\, V1G 4G2\, Canada
ATTACH;FMTTYPE=image/jpeg:https://www.nlc.bc.ca/wp-content/uploads/2025/08/Study-Skills_Email.jpg
ORGANIZER;CN="Learning Support Services":MAILTO:learningsupport@nlc.bc.ca
END:VEVENT
END:VCALENDAR