BEGIN:VCALENDAR
VERSION:2.0
PRODID:-//Northern Lights College - ECPv6.15.17.1//NONSGML v1.0//EN
CALSCALE:GREGORIAN
METHOD:PUBLISH
X-WR-CALNAME:Northern Lights College
X-ORIGINAL-URL:https://www.nlc.bc.ca
X-WR-CALDESC:Events for Northern Lights College
REFRESH-INTERVAL;VALUE=DURATION:PT1H
X-Robots-Tag:noindex
X-PUBLISHED-TTL:PT1H
BEGIN:VTIMEZONE
TZID:America/Phoenix
BEGIN:STANDARD
TZOFFSETFROM:-0700
TZOFFSETTO:-0700
TZNAME:MST
DTSTART:20240101T000000
END:STANDARD
END:VTIMEZONE
BEGIN:VEVENT
DTSTART;TZID=America/Phoenix:20250505T000000
DTEND;TZID=America/Phoenix:20250505T000000
DTSTAMP:20260419T212612
CREATED:20250505T225131Z
LAST-MODIFIED:20250505T225245Z
UID:10002659-1746403200-1746403200@www.nlc.bc.ca
SUMMARY:Future Ready! SD #60 Dual Credit Information Night for Parents and Families
DESCRIPTION:This family-friendly information night is for parents and families to learn more about dual credit programs \nThe keynote speaker will be Olympic Gold Medalist\, Denny Morrison. \nThis free event will also have food and door prizes\, come on out! \nPlease confirm your interest with us at info@nlc.bc.ca
URL:https://www.nlc.bc.ca/event/future-ready-sd-60-dual-credit-information-night-for-parents-and-families/
CATEGORIES:College Events
ATTACH;FMTTYPE=image/png:https://www.nlc.bc.ca/wp-content/uploads/2025/05/Dual_Credit_Info_Night_60-FSJ-1.png
END:VEVENT
END:VCALENDAR